BEGIN:VCALENDAR
VERSION:2.0
PRODID:-//wp-events-plugin.com//7.2.3.1//EN
BEGIN:VEVENT
UID:454@vlcovjane.cz
DTSTART;TZID=Europe/Prague:20220109T140000
DTEND;TZID=Europe/Prague:20220109T180000
DTSTAMP:20220103T075935Z
URL:https://www.vlcovjane.cz/events/bylinkova-prednaska-vlcovice-9-1-2022-
 jatra-a-zlucnik-jak-je-podporit-bylinami-a-stravou/
SUMMARY:Bylinková přednáška Vlčovice 9.1.2022 - Játra a žlučník - 
 jak je podpořit bylinami a stravou?
DESCRIPTION:Přenáška je zrušená\n\n 	9.1.2022 bude ve Vlčovicích u N
 ového Jičína od 14 do cca. 17 hodin (max. do 18 hod.) bylinková předn
 áška. Budeme si povídat nejen o léčivých rostlinách+medicinálních
  houbách\, které játra a žlučník podporují\, ale také o stravě\, 
 která játra může velmi zatížit nebo naopak jim velmi pomoci. Dozví
 te se například proč játra nemají ráda hladovění\, jaké tuky jim 
 vyhovují\, jak často můžete smažit\, aby netrpěla\, pak také co s n
 imi dělá alkohol a kterou zeleninu játra zbožňují.Co se na předná
 šce dozvíte\n\n\n 	Jak souvisí játra a žlučník s dalšími orgány
  v těle dle tradiční čínské medicíny (element DŘEVO)\n 	Jak pozn
 at podle příznaků oslabení jater\n 	Které byliny a medicínální ho
 uby regenerují játra\n 	Které potraviny játrům ubližují a pomáha
 jí\n 	Budeme se věnovat nemocem jater a žlučníku - zánět\, steat
 oza\, cirhoza\, rakovina jater a její podpůrná léčba\, žlučníkové
  kameny\, zánět žlučníku\, žlučíková kolika\, ad.\n\nKdy: 9.1.20
 22 ve 14 hod. (končit budeme mezi 17-18 hod.)\, 2x přestávka cca. 15 mi
 nut\n\nKde: Vlčovice 76 (u Nového Jičína) - MAPA ZDE.\n\nMožnost pa
 rkování: 6 aut v areálu\, 3 před budovou a v okolních uličkách\n\n
 Cena: 299 Kč\n\n\nKapacita: max. 50 osob\n\nNa místě: zdarma bylinkov
 ý čaj s medem a propiska pro každého.\\\n\nPřednášející:\n\n 	Mgr
 . Zuzana Švédová (nutriční terapeut)\n 	MUDr. Zbyněk Mlčoch - zakla
 datel a tvůrce webu www.BylinkyProVsechny.cz\n\n\n
ATTACH;FMTTYPE=image/jpeg:https://www.vlcovjane.cz/wp-content/uploads/2021
 /10/jatra-a-zlucnik.jpg
CATEGORIES:Akce
LOCATION:Komunitní centrum Vlčovjan\, Vlčovice 76\, Kopřivnice\, 74221\
 , Česká republika
GEO:49.59118;18.191383
X-APPLE-STRUCTURED-LOCATION;VALUE=URI;X-ADDRESS=Vlčovice 76\, Kopřivnice\
 , 74221\, Česká republika;X-APPLE-RADIUS=100;X-TITLE=Komunitní centrum 
 Vlčovjan:geo:49.59118,18.191383
END:VEVENT
BEGIN:VTIMEZONE
TZID:Europe/Prague
X-LIC-LOCATION:Europe/Prague
BEGIN:STANDARD
DTSTART:20211031T020000
TZOFFSETFROM:+0200
TZOFFSETTO:+0100
TZNAME:CET
END:STANDARD
END:VTIMEZONE
END:VCALENDAR