BEGIN:VCALENDAR
VERSION:2.0
PRODID:-//wp-events-plugin.com//7.2.3.1//EN
BEGIN:VEVENT
UID:536@vlcovjane.cz
DTSTART;TZID=Europe/Prague:20221028T130000
DTEND;TZID=Europe/Prague:20221028T200000
DTSTAMP:20221012T113357Z
URL:https://www.vlcovjane.cz/events/vlcovicka-drakiada-2022/
SUMMARY:Vlčovická Drakiáda 2022
DESCRIPTION:
ATTACH;FMTTYPE=image/jpeg:https://www.vlcovjane.cz/wp-content/uploads/2022
 /10/Drakiada-v2.jpg
CATEGORIES:Akce
END:VEVENT
BEGIN:VTIMEZONE
TZID:Europe/Prague
X-LIC-LOCATION:Europe/Prague
BEGIN:DAYLIGHT
DTSTART:20220327T030000
TZOFFSETFROM:+0100
TZOFFSETTO:+0200
TZNAME:CEST
END:DAYLIGHT
END:VTIMEZONE
END:VCALENDAR